BEGIN:VCALENDAR
VERSION:2.0
PRODID:GlueUp
CALSCALE:GREGORIAN
BEGIN:VTIMEZONE
TZID:UTC
BEGIN:STANDARD
DTSTART:19700101T000000
TZOFFSETFROM:+0000
TZOFFSETTO:+0000
TZNAME:UTC
END:STANDARD
END:VTIMEZONE
BEGIN:VEVENT
TZ:+00
ORGANIZER;CN=Luxury Society Keynote:MAILTO:keynote@luxurysociety.com
UID:12967-1776898228@https://digitalluxurygroup.glueup.cn
DTSTAMP:20260422T225028Z
DTSTART:20171129T053000Z
DTEND:20171129T123000Z
SUMMARY:Luxury Society Keynote 2017
DESCRIPTION:Luxury Society Keynote 2017 by DLG(Digital Luxury Group)\n\nNov 29, 2017 (1:30 PM - 8:30 PM)(GMT+8)\n\nFor more information, click here: https://digitalluxurygroup.glueup.cn/my/events/12967
LOCATION:Four Seasons Hotel Shanghai - 500 Weihai Road - Jingan District Shanghai - China
BEGIN:VALARM
TRIGGER:-PT48H
REPEAT:4
DURATION:PT30M
ACTION:DISPLAY
END:VALARM
END:VEVENT
END:VCALENDAR