BEGIN:VCALENDAR
VERSION:2.0
PRODID:GlueUp
CALSCALE:GREGORIAN
BEGIN:VTIMEZONE
TZID:UTC
BEGIN:STANDARD
DTSTART:19700101T000000
TZOFFSETFROM:+0000
TZOFFSETTO:+0000
TZNAME:UTC
END:STANDARD
END:VTIMEZONE
BEGIN:VEVENT
TZ:+00
ORGANIZER;CN=Dawn Zhang:MAILTO:dawnzhang@digital-luxury.com
UID:41191-1776898452@https://digitalluxurygroup.glueup.cn
DTSTAMP:20260422T225412Z
DTSTART:20230919T053000Z
DTEND:20230919T110000Z
SUMMARY:Luxury Society Keynote 2023
DESCRIPTION:Luxury Society Keynote 2023 by DLG(Digital Luxury Group)\n\nSep 19, 2023 (1:30 PM - 7:00 PM)(GMT+8)\n\nFor more information, click here: https://digitalluxurygroup.glueup.cn/my/events/41191
LOCATION:The Sukhothai Shanghai - 380 Weihai Road - 200041 Shanghai - China
BEGIN:VALARM
TRIGGER:-PT48H
REPEAT:4
DURATION:PT30M
ACTION:DISPLAY
END:VALARM
END:VEVENT
END:VCALENDAR