BEGIN:VCALENDAR
VERSION:2.0
PRODID:GlueUp
CALSCALE:GREGORIAN
BEGIN:VTIMEZONE
TZID:UTC
BEGIN:STANDARD
DTSTART:19700101T000000
TZOFFSETFROM:+0000
TZOFFSETTO:+0000
TZNAME:UTC
END:STANDARD
END:VTIMEZONE
BEGIN:VEVENT
TZ:+00
ORGANIZER;CN=Dawn Zhang:MAILTO:dawnzhang@digital-luxury.com
UID:38142-1776898438@https://digitalluxurygroup.glueup.cn
DTSTAMP:20260422T225358Z
DTSTART:20221019T070000Z
DTEND:20221019T080000Z
SUMMARY:THE RED LUXURY INDEX 2022
DESCRIPTION:THE RED LUXURY INDEX 2022 by DLG(Digital Luxury Group)\n\nOctober 19, 2022\n3:00 PM - 4:00 PM(GMT+8)\n\nFor more information and to attend the online event, click here:\n\nEvent Website: https://digitalluxurygroup.glueup.cn/my/events/38142\n\nEvent Link: https://shangzhibo.tv/watch/10846878?sharedBy=9004574&invitedBy=9004574
LOCATION:https://shangzhibo.tv/watch/10846878?sharedBy=9004574&invitedBy=9004574
BEGIN:VALARM
TRIGGER:-PT1H
REPEAT:4
DURATION:PT15M
ACTION:DISPLAY
END:VALARM
END:VEVENT
END:VCALENDAR